BEGIN:VCALENDAR
VERSION:2.0
PRODID:-//hacksw/handcal//NONSGML v1.0//EN
BEGIN:VEVENT
SUMMARY:Coupe des amis 2026
UID:31bf3b51-cf92-4408-9e55-fdffb3a0e482
DTSTART:20260328T090000Z
DTEND:20260328T153000Z
LOCATION:Localisation golf de gadancourt  gadancourt
CATEGORIES:Sportif
STATUS:
DESCRIPTION:<p>Notre saison 2026 debutera par un scramble a deux, la
 coupe des amis, au golf de Gadancourt le 28 mars. Laissez en
 commentaire de votre inscription le nom des personnes avec qui vous
 voulez faire equipe ou partager une partie.</p>
 
 <p>Le premier depart
 sera vers 10h et les inscriptions sont possibles jusqu'au  24 mars a
 midi, exclusivement sur cette page.</p>
 
 <p>L'idee originelle de cet
 evenement est de vous permettre de faire connaitre le club a vos
 amis. Pour cette raison, la competition est ouverte aux non-membres
 au meme tarif que le tarif demande aux membres. <strong>Ce sera la
 seule fois de l'annee </strong>: les Open Airshot Vincennes que nous
 organisons tout au long de l'annee sont ouverts aux non-membres mais
 ils devront payer un tarif plus eleve, etant donne qu'ils n'ont pas
 cotise au club.</p>
URL;VALUE=URI:https://www.golf-airshot.fr/evenements/2026/03/28/coupe-des-amis-2026-2156814
END:VEVENT
END:VCALENDAR
