BEGIN:VCALENDAR
VERSION:2.0
PRODID:-//hacksw/handcal//NONSGML v1.0//EN
BEGIN:VEVENT
SUMMARY:UCUP - RESERVE AUX SELECTIONNES -  formulaire pour REGLEMENT du tour de St Quentin
UID:937c0ee3-5c19-4761-a2f7-0256eaa1b339
DTSTART:20260411T070000Z
DTEND:20260411T130000Z
LOCATION:Localisation   
CATEGORIES:Sportif
STATUS:
DESCRIPTION:<p>- RESERVE AUX SELECTIONNES -</p>
 
 <p><strong>Si vous
 avez ete informes de votre selection pour ce tour,</strong> vous
 devez regler en ligne avant la date communiquee par mail afin de
 confirmer votre selection.</p>
 
 <p><strong>N'effectuez svp pas de
 reglement si vous n'avez pas ete informe de votre
 selection.</strong></p>
 
 <p> </p>
 
 <p> </p>
URL;VALUE=URI:https://www.golf-airshot.fr/evenements/2026/04/11/ucup-reserve-aux-selectionnes-formulaire-pour-reglement-du-tour-de-st-quentin-2434713
END:VEVENT
END:VCALENDAR
