BEGIN:VCALENDAR
VERSION:2.0
PRODID:-//hacksw/handcal//NONSGML v1.0//EN
BEGIN:VEVENT
SUMMARY:Open Airshot Vincennes no 2 : golf d'Ableiges
UID:694df84a-f53c-4284-b585-1ccf61687b14
DTSTART:20260613T073000Z
DTEND:20260613T140000Z
LOCATION:Localisation golf d'Ableiges  
CATEGORIES:Sportif
STATUS:
DESCRIPTION:<p>2er OAV de la saison 2026 au golf
 d'Ableiges</p>
 
 <p>Le premier depart sera vers 9h30 et les
 inscriptions sont possibles jusqu'au 9 juini, exclusivement sur cette
 page.</p>
 
 <p>Elles doivent etre reglees par CB pour etre prises en
 compte</p>
 
 <p> </p>
URL;VALUE=URI:https://www.golf-airshot.fr/evenements/2026/06/13/open-airshot-vincennes-no-2-golf-dableiges-2444087
END:VEVENT
END:VCALENDAR
